BEGIN:VCALENDAR
VERSION:2.0
PRODID:-//Happy Hour Golf Club - ECPv6.15.17//NONSGML v1.0//EN
CALSCALE:GREGORIAN
METHOD:PUBLISH
X-WR-CALNAME:Happy Hour Golf Club
X-ORIGINAL-URL:https://happyhourgolfclub.com
X-WR-CALDESC:Events for Happy Hour Golf Club
REFRESH-INTERVAL;VALUE=DURATION:PT1H
X-Robots-Tag:noindex
X-PUBLISHED-TTL:PT1H
BEGIN:VTIMEZONE
TZID:America/Los_Angeles
BEGIN:DAYLIGHT
TZOFFSETFROM:-0800
TZOFFSETTO:-0700
TZNAME:PDT
DTSTART:20240310T100000
END:DAYLIGHT
BEGIN:STANDARD
TZOFFSETFROM:-0700
TZOFFSETTO:-0800
TZNAME:PST
DTSTART:20241103T090000
END:STANDARD
BEGIN:DAYLIGHT
TZOFFSETFROM:-0800
TZOFFSETTO:-0700
TZNAME:PDT
DTSTART:20250309T100000
END:DAYLIGHT
BEGIN:STANDARD
TZOFFSETFROM:-0700
TZOFFSETTO:-0800
TZNAME:PST
DTSTART:20251102T090000
END:STANDARD
BEGIN:DAYLIGHT
TZOFFSETFROM:-0800
TZOFFSETTO:-0700
TZNAME:PDT
DTSTART:20260308T100000
END:DAYLIGHT
BEGIN:STANDARD
TZOFFSETFROM:-0700
TZOFFSETTO:-0800
TZNAME:PST
DTSTART:20261101T090000
END:STANDARD
END:VTIMEZONE
BEGIN:VEVENT
DTSTART;TZID=America/Los_Angeles:20250628T090000
DTEND;TZID=America/Los_Angeles:20250628T150000
DTSTAMP:20260421T145918
CREATED:20250324T210108Z
LAST-MODIFIED:20250603T000449Z
UID:1298-1751101200-1751122800@happyhourgolfclub.com
SUMMARY:Fore! Cards Scramble
DESCRIPTION:CLICK HERE TO REGISTER \nJoin us for the Fore! Cards Scramble Tournament sponsored by Fore! Cards at Mission Bay Golf Course on June 28th! This will be a 4 person scramble with a twist! All foursomes will be using Fore! Cards during the round\, potentially making for some very interesting outcomes. Visit www.forecards.com for more info on their products. \nEntry fee: $57 walking\, $72 riding.\nAfter your registration is complete\, please have one person from your team enter your team info here: TEAM INFO FORM \nIF YOU DO NOT HAVE A TEAM\, EMAIL US AT INFO@HAPPYHOURGOLFCLUB.COM ASAP SO WE CAN PUT YOU ON A TEAM.\nEvent starts at 9am \nIf you’re interested in checking out HHGC for yourself\, this is the perfect opportunity because this event is open to members and nonmembers! So come join the shenanigans! \n  \nRegistration for this event closes on 6/14/25 @ 12 noon.
URL:https://happyhourgolfclub.com/event/fore-cards-scramble/
LOCATION:Mission Bay Golf Course\, 2702 N Mission Bay Dr\,\, San Diego\, CA\, 92109\, United States
ATTACH;FMTTYPE=image/jpeg:https://happyhourgolfclub.com/wp-content/uploads/2025/03/Fore-Cards-Scramble-Flyer-1.jpg
END:VEVENT
END:VCALENDAR