BEGIN:VCALENDAR
VERSION:2.0
PRODID:-//Happy Hour Golf Club - ECPv6.15.17//NONSGML v1.0//EN
CALSCALE:GREGORIAN
METHOD:PUBLISH
X-WR-CALNAME:Happy Hour Golf Club
X-ORIGINAL-URL:https://happyhourgolfclub.com
X-WR-CALDESC:Events for Happy Hour Golf Club
REFRESH-INTERVAL;VALUE=DURATION:PT1H
X-Robots-Tag:noindex
X-PUBLISHED-TTL:PT1H
BEGIN:VTIMEZONE
TZID:America/Los_Angeles
BEGIN:DAYLIGHT
TZOFFSETFROM:-0800
TZOFFSETTO:-0700
TZNAME:PDT
DTSTART:20240310T100000
END:DAYLIGHT
BEGIN:STANDARD
TZOFFSETFROM:-0700
TZOFFSETTO:-0800
TZNAME:PST
DTSTART:20241103T090000
END:STANDARD
BEGIN:DAYLIGHT
TZOFFSETFROM:-0800
TZOFFSETTO:-0700
TZNAME:PDT
DTSTART:20250309T100000
END:DAYLIGHT
BEGIN:STANDARD
TZOFFSETFROM:-0700
TZOFFSETTO:-0800
TZNAME:PST
DTSTART:20251102T090000
END:STANDARD
BEGIN:DAYLIGHT
TZOFFSETFROM:-0800
TZOFFSETTO:-0700
TZNAME:PDT
DTSTART:20260308T100000
END:DAYLIGHT
BEGIN:STANDARD
TZOFFSETFROM:-0700
TZOFFSETTO:-0800
TZNAME:PST
DTSTART:20261101T090000
END:STANDARD
END:VTIMEZONE
BEGIN:VEVENT
DTSTART;TZID=America/Los_Angeles:20250927T090000
DTEND;TZID=America/Los_Angeles:20250927T150000
DTSTAMP:20260421T090503
CREATED:20250324T205113Z
LAST-MODIFIED:20250908T234005Z
UID:1295-1758963600-1758985200@happyhourgolfclub.com
SUMMARY:Twin Oaks Golf Course (Social Round)
DESCRIPTION:CLICK HERE TO REGISTER \nJoin us for THE FINAL SOCIAL ROUND OF THE YEAR at Twin Oaks Golf Course! \n  \n*Note: This event is open to the public. You do not need to be an HHGC member to participate. \n  \nHHGC Members: If you’d like to use this round towards your Growler Cup standings\, please let us know upon check in. THIS IS ONE OF THE LAST 2 OPPORTUNITIES TO EARN POINTS. (The other opportunity is the final major of the year\, DNT The Open)  \n  \nWe’ll see you at Twin Oaks Golf Course! \n  \nDate of event: 9/27/2025 \nTime of event: First Group Tees Off @ 9AM \nGolf Course Name & Address: Twin Oaks Golf Course\, 1425 N Twin Oaks Valley Rd\, San Marcos\, CA\, 92069 \nEvent is open to the public \nFormat of Play: Stroke Play \nWill points for this event go towards the Growler Cup?: Optional \nDue date to enter in GHIN score or else be given a zero for your hcp: 9/25/2025 (This is only if round is being used for Growler Cup) \nDate when parings will be released: 8/25/2025 \nRegistration ends 9/16/2025 @ midnight \n  \nPricing: $113\nIncludes green fee\, cart\, and range balls \n  \n*Cancellations must be made at least 48 hours before the event for a refund\, minus processing fees. No refunds will be issued for cancellations within 48 hours of the event. \n  \nFor more information\, \nContact Noly: info@happyhourgolfclub.com
URL:https://happyhourgolfclub.com/event/twin-oaks-golf-course-social-round/
LOCATION:Twin Oaks Golf Course\, 1425 N Twin Oaks Valley Rd\, San Marcos\, CA\, 92069\, United States
ATTACH;FMTTYPE=image/jpeg:https://happyhourgolfclub.com/wp-content/uploads/2025/03/Social-Round-@-Twin-Oaks.jpg
END:VEVENT
BEGIN:VEVENT
DTSTART;TZID=America/Los_Angeles:20250927T090000
DTEND;TZID=America/Los_Angeles:20250927T150000
DTSTAMP:20260421T090503
CREATED:20250325T050218Z
LAST-MODIFIED:20250325T050218Z
UID:1324-1758963600-1758985200@happyhourgolfclub.com
SUMMARY:Dos Osos Golf Club (Social Round)
DESCRIPTION:Join us for a social round of golf at Dos Osos Golf Club ! \n*Note: This event is open to the public. You do not need to be an HHGC member to participate. \nHHGC Members: If you’d like to use this round towards your Growler Cup standings\, please let us know upon check in. \nWe’ll see you at Dos Osos! \nDate of event: 9/27/2025\nTime of event: First Group Tees Off @ 9 am\nGolf Course Name & Address: Dos Osos Golf Club\, 2492 Old Ranch Rd\, Escondido\, CA 92027
URL:https://happyhourgolfclub.com/event/dos-osos-golf-club-social-round/
LOCATION:Dos Osos Golf Club\, 2492 Old Ranch Rd\, Escondido\, CA\, 92027\, United States
END:VEVENT
END:VCALENDAR