BEGIN:VCALENDAR
VERSION:2.0
PRODID:-//Happy Hour Golf Club - ECPv6.15.17//NONSGML v1.0//EN
CALSCALE:GREGORIAN
METHOD:PUBLISH
X-WR-CALNAME:Happy Hour Golf Club
X-ORIGINAL-URL:https://happyhourgolfclub.com
X-WR-CALDESC:Events for Happy Hour Golf Club
REFRESH-INTERVAL;VALUE=DURATION:PT1H
X-Robots-Tag:noindex
X-PUBLISHED-TTL:PT1H
BEGIN:VTIMEZONE
TZID:America/Los_Angeles
BEGIN:DAYLIGHT
TZOFFSETFROM:-0800
TZOFFSETTO:-0700
TZNAME:PDT
DTSTART:20240310T100000
END:DAYLIGHT
BEGIN:STANDARD
TZOFFSETFROM:-0700
TZOFFSETTO:-0800
TZNAME:PST
DTSTART:20241103T090000
END:STANDARD
BEGIN:DAYLIGHT
TZOFFSETFROM:-0800
TZOFFSETTO:-0700
TZNAME:PDT
DTSTART:20250309T100000
END:DAYLIGHT
BEGIN:STANDARD
TZOFFSETFROM:-0700
TZOFFSETTO:-0800
TZNAME:PST
DTSTART:20251102T090000
END:STANDARD
BEGIN:DAYLIGHT
TZOFFSETFROM:-0800
TZOFFSETTO:-0700
TZNAME:PDT
DTSTART:20260308T100000
END:DAYLIGHT
BEGIN:STANDARD
TZOFFSETFROM:-0700
TZOFFSETTO:-0800
TZNAME:PST
DTSTART:20261101T090000
END:STANDARD
END:VTIMEZONE
BEGIN:VEVENT
DTSTART;TZID=America/Los_Angeles:20250809T100000
DTEND;TZID=America/Los_Angeles:20250809T170000
DTSTAMP:20260421T193707
CREATED:20250710T200319Z
LAST-MODIFIED:20250710T201113Z
UID:1732-1754733600-1754758800@happyhourgolfclub.com
SUMMARY:Definitely Not The US Open
DESCRIPTION:CLICK HERE TO REGISTER!  \nJoin us for our third major of the year…\nDefinitely Not The U.S. Open at Arrowood Golf Course! \nNote: This is a members-only event. \nEvent Details:Date: Saturday\, August 9\, 2025Time: First group tees off at 10:00 AMLocation: Arrowood Golf Course5201 Village Dr.\, Oceanside\, CA 92057Format: Stroke PlayGrowler Cup Points: YesPairings Released: August 7Registration Closes: July 29 at midnightGHIN Deadline: August 6 (scores must be posted by this date or you’ll play with no handicap) \nThis event will be played across three handicap tiers: White Claw\, IPA\, and Top Shelf — with winners in each tier. \nIf you don’t already have an established GHIN handicap\, please download the free GHIN app and enter at least your last three rounds to generate one. \nNote: Players without a GHIN by August 6 will play the tournament with no handicap applied. \nEntry Fee: $129Includes green fee\, cart\, and range balls \nCancellations must be made at least 48 hours before the event to receive a refund (minus processing fees). No refunds will be issued within 48 hours of the event. \nFor questions or more info\, contact Noly atinfo@happyhourgolfclub.com
URL:https://happyhourgolfclub.com/event/definitely-not-the-us-open-2/
LOCATION:Arrowood Golf Course\, 5201 Village Dr\, Oceanside\, CA\, 92057\, United States
ATTACH;FMTTYPE=image/jpeg:https://happyhourgolfclub.com/wp-content/uploads/2025/07/DNT-US-Open-2025-Flyer.jpg
END:VEVENT
BEGIN:VEVENT
DTSTART;TZID=America/Los_Angeles:20250726T083000
DTEND;TZID=America/Los_Angeles:20250726T143000
DTSTAMP:20260421T193707
CREATED:20250324T212631Z
LAST-MODIFIED:20250628T233143Z
UID:1307-1753518600-1753540200@happyhourgolfclub.com
SUMMARY:The Tag Team Scramble
DESCRIPTION:CLICK HERE TO REGISTER!  \nTwo-Person Scramble | Members Only \nThe Tag Team Scramble is a two-person scramble tournament with a pro wrestling twist. Bring your golf buddy\, choose a team name\, and get ready to compete for custom Tag Team Championship Belts. Yup—belts. Like the ones the wrestlers wear. You’ve always wanted one\, admit it. \nHere’s the rundown: \nDate: July 26 \nLocation: The Links at Lakehouse \nStart Time: First group tees off at 8:30 AM \nFormat: Two-person scramble (must register as a team) \nSpots: 32 golfers / 16 teams total \nPrice: $99 per player ($198 per team) – includes green fee\, shared cart\, and range balls \nWe’ll also have prizes for: \n\nLong Drive\nClosest to the Pin\nOverall winners (ahem… belt-worthy performances only)\n\nThis is an HHGC members-only event with limited space\, so if you want in\, lock in your team now before the spots are gone.
URL:https://happyhourgolfclub.com/event/the-tag-team-scramble/
LOCATION:The Links at Lakehouse\, 1025 La Bonita Drive\, San Marcos\, CA\, 92078\, United States
ATTACH;FMTTYPE=image/jpeg:https://happyhourgolfclub.com/wp-content/uploads/2025/03/THE-TAG-TEAM-SCRAMBLE-FLYER-1.jpg
END:VEVENT
BEGIN:VEVENT
DTSTART;TZID=America/Los_Angeles:20250712T100000
DTEND;TZID=America/Los_Angeles:20250712T150000
DTSTAMP:20260421T193707
CREATED:20250617T201122Z
LAST-MODIFIED:20250617T201307Z
UID:1721-1752314400-1752332400@happyhourgolfclub.com
SUMMARY:San Vicente Resort & Golf Club (Social Round)
DESCRIPTION:CLICK HERE TO REGISTER \nJoin us for a social round of golf at San Vicente Resort & Golf Club! \n*Note: This event is open to the public. You do not need to be an HHGC member to participate. \nHHGC Members: If you’d like to use this round towards your Growler Cup standings\, please let us know upon check in. \nWe’ll see you at San Vicente Resort & Golf Club! \nDate of event: 07/12/2025 \nTime of event: First Group Tees Off @ 10AM \nGolf Course Name & Address: San Vicente Resort and Golf Club\, 24157 San Vicente Rd\, Ramona\, CA\, 92065 \nEvent is open to the public \nFormat of Play: Stroke Play \nWill points for this event go towards the Growler Cup?: Optional \nDue date to enter in GHIN score or else be given a zero for your hcp: 7/5/2025 (This is only if round is being used for Growler Cup) \nDate when parings will be released: 7/10/2025 \nRegistration ends 7/4/2025 @ midnight \nPricing: $104 \nIncludes Green fee & cart \n*Cancellations must be made at least 48 hours before the event for a refund\, minus processing fees. No refunds will be issued for cancellations within 48 hours of the event. \nFor more information\, \nContact Noly: info@happyhourgolfclub.com
URL:https://happyhourgolfclub.com/event/social-round-san-vicente-resort-golf-club/
LOCATION:San Vicente Golf Resort\, 24157 San Vicente Rd\, San Diego Country Estates\,\, CA\, 92065\, United States
ATTACH;FMTTYPE=image/jpeg:https://happyhourgolfclub.com/wp-content/uploads/2025/06/Social-Round-San-Vicente-flyer-1.jpg
END:VEVENT
BEGIN:VEVENT
DTSTART;TZID=America/Los_Angeles:20250628T090000
DTEND;TZID=America/Los_Angeles:20250628T150000
DTSTAMP:20260421T193707
CREATED:20250324T210108Z
LAST-MODIFIED:20250603T000449Z
UID:1298-1751101200-1751122800@happyhourgolfclub.com
SUMMARY:Fore! Cards Scramble
DESCRIPTION:CLICK HERE TO REGISTER \nJoin us for the Fore! Cards Scramble Tournament sponsored by Fore! Cards at Mission Bay Golf Course on June 28th! This will be a 4 person scramble with a twist! All foursomes will be using Fore! Cards during the round\, potentially making for some very interesting outcomes. Visit www.forecards.com for more info on their products. \nEntry fee: $57 walking\, $72 riding.\nAfter your registration is complete\, please have one person from your team enter your team info here: TEAM INFO FORM \nIF YOU DO NOT HAVE A TEAM\, EMAIL US AT INFO@HAPPYHOURGOLFCLUB.COM ASAP SO WE CAN PUT YOU ON A TEAM.\nEvent starts at 9am \nIf you’re interested in checking out HHGC for yourself\, this is the perfect opportunity because this event is open to members and nonmembers! So come join the shenanigans! \n  \nRegistration for this event closes on 6/14/25 @ 12 noon.
URL:https://happyhourgolfclub.com/event/fore-cards-scramble/
LOCATION:Mission Bay Golf Course\, 2702 N Mission Bay Dr\,\, San Diego\, CA\, 92109\, United States
ATTACH;FMTTYPE=image/jpeg:https://happyhourgolfclub.com/wp-content/uploads/2025/03/Fore-Cards-Scramble-Flyer-1.jpg
END:VEVENT
BEGIN:VEVENT
DTSTART;TZID=America/Los_Angeles:20250525T083000
DTEND;TZID=America/Los_Angeles:20250525T083000
DTSTAMP:20260421T193707
CREATED:20250324T204300Z
LAST-MODIFIED:20250512T204645Z
UID:1291-1748161800-1748161800@happyhourgolfclub.com
SUMMARY:Singing Hills Golf Club at Sycuan (Social Round)
DESCRIPTION:CLICK HERE TO REGISTER \nJoin us for a social round of golf at Singing Hills Golf Club at Sycuan (Oak Glen)! \n*Note: This event is open to the public. You do not need to be an HHGC member to participate. \nHHGC Members: If you’d like to use this round towards your Growler Cup standings\, please let us know upon check in. \nWe’ll see you at Singing Hills! \nDate of event: 5/25/2025\nTime of event: First Group Tees Off @ 8:30 am\nGolf Course Name & Address: Singing Hills Golf Club at Sycuan\, 3007 Dehesa Rd\, El Cajon\, CA 92019
URL:https://happyhourgolfclub.com/event/singing-hills-golf-club-at-sycuan-social-round/
LOCATION:Singing Hills Golf Club (Oak Glen)\, 3007 Dehesa Rd\, El Cajon\, CA\, 92019\, United States
ATTACH;FMTTYPE=image/jpeg:https://happyhourgolfclub.com/wp-content/uploads/2025/03/May-2025-Social-Round.jpg
END:VEVENT
BEGIN:VEVENT
DTSTART;TZID=America/Los_Angeles:20250510T090000
DTEND;TZID=America/Los_Angeles:20250510T090000
DTSTAMP:20260421T193707
CREATED:20250324T203926Z
LAST-MODIFIED:20250418T043035Z
UID:1288-1746867600-1746867600@happyhourgolfclub.com
SUMMARY:Definitely Not The PGA Championship
DESCRIPTION:CLICK HERE TO REGISTER\nJoin us for the 2nd in our 2025 “Definitely Not The Majors” series…Definitely Not The PGA Championship! \n*Note: This is a members only event* \nThis will be a stroke play competition with an overall Net Score Winner & overall Gross Score Winner. There will also be 3 tiers: High Handicap\, Mid Handicap & Low Handicap with winners in each tier. HHGC members that do not already have an established GHIN handicap\, please download the GHIN app (it’s free) and enter\, at least\, your last 3 rounds to establish your handicap. (Note: If no GHIN handicap is established by date listed below\, you will play the tournament with no handicap applied.) \nEveryone will also have opportunities to win additional prizes with our longest drive and closest to the pin competitions! \nWe’ll see you at Native Oaks Golf Course! \n\nDate of event: 5/10/2025\nTime of event: First Group Tees Off @ 9am\nGolf Course Name & Address: Native Oaks Golf Course\, 14616 Woods Valley Rd\, Valley Center\, CA 92082\nMembers Only Event\nFormat of Play: Stroke Play\nWill points for this event go towards the Growler Cup?: Yes
URL:https://happyhourgolfclub.com/event/definitely-not-the-pga-championship/
LOCATION:Native Oaks Golf Course\, 14616 Woods Valley Rd\,\, Valley Center\, CA\, 92082\, United States
ATTACH;FMTTYPE=image/jpeg:https://happyhourgolfclub.com/wp-content/uploads/2025/03/DNT-PGA-Championship-2025-scaled.jpg
END:VEVENT
BEGIN:VEVENT
DTSTART;TZID=America/Los_Angeles:20250426T110000
DTEND;TZID=America/Los_Angeles:20250426T110000
DTSTAMP:20260421T193707
CREATED:20250324T200532Z
LAST-MODIFIED:20250418T042952Z
UID:1280-1745665200-1745665200@happyhourgolfclub.com
SUMMARY:Mulligan Madness
DESCRIPTION:CLICK HERE TO REGISTER\nMulligan Madness Golf Tournament\nA scramble where second chances (and a little friendly sabotage) are part of the game! \nGet ready for a day of questionable strategy\, unexpected twists\, and plenty of laughs at Mulligan Madness. This 2-person scramble isn’t just about skill—it’s about knowing when to use (or force) a do-over. \nEvent Details\nWhere: Golf Club of CaliforniaWhen: April 26\, 2024First tee time: 11:00 AM \nFormat\n2-person scramble – but with a chaotic twist. \nGrab a buddy and sign up as a team—pick your partner in crime ahead of time! \nMulligans: Your Best Friend or Worst Enemy\nSelf-Mulligan: Didn’t like your shot? Take a redo. No shame. \nTeammate Mulligan: Help your partner out with a second chance at a shot. \nReverse Mulligan: Your opponent just hit a perfect shot? Too bad. Make them do it again. \nScoring and Prizes\nThere are two ways to win: \nOverall Champions: The team with the lowest combined score across the entire tournament takes the grand prize. \nFoursome Face-Off: Each two-person team will also be competing head-to-head against the other team in their foursome for a prize. Win your foursome\, and you walk away with some bragging rights and a little something extra.
URL:https://happyhourgolfclub.com/event/mulligan-madness/
LOCATION:Golf Club of California\, 3742 Flowerwood Ln\, Fallbrook\, CA\, 92028\, United States
ATTACH;FMTTYPE=image/jpeg:https://happyhourgolfclub.com/wp-content/uploads/2025/03/Mulligan-Madness.jpg
END:VEVENT
END:VCALENDAR