BEGIN:VCALENDAR
VERSION:2.0
PRODID:-//Happy Hour Golf Club - ECPv6.15.17//NONSGML v1.0//EN
CALSCALE:GREGORIAN
METHOD:PUBLISH
X-ORIGINAL-URL:https://happyhourgolfclub.com
X-WR-CALDESC:Events for Happy Hour Golf Club
REFRESH-INTERVAL;VALUE=DURATION:PT1H
X-Robots-Tag:noindex
X-PUBLISHED-TTL:PT1H
BEGIN:VTIMEZONE
TZID:America/Los_Angeles
BEGIN:DAYLIGHT
TZOFFSETFROM:-0800
TZOFFSETTO:-0700
TZNAME:PDT
DTSTART:20240310T100000
END:DAYLIGHT
BEGIN:STANDARD
TZOFFSETFROM:-0700
TZOFFSETTO:-0800
TZNAME:PST
DTSTART:20241103T090000
END:STANDARD
BEGIN:DAYLIGHT
TZOFFSETFROM:-0800
TZOFFSETTO:-0700
TZNAME:PDT
DTSTART:20250309T100000
END:DAYLIGHT
BEGIN:STANDARD
TZOFFSETFROM:-0700
TZOFFSETTO:-0800
TZNAME:PST
DTSTART:20251102T090000
END:STANDARD
BEGIN:DAYLIGHT
TZOFFSETFROM:-0800
TZOFFSETTO:-0700
TZNAME:PDT
DTSTART:20260308T100000
END:DAYLIGHT
BEGIN:STANDARD
TZOFFSETFROM:-0700
TZOFFSETTO:-0800
TZNAME:PST
DTSTART:20261101T090000
END:STANDARD
END:VTIMEZONE
BEGIN:VEVENT
DTSTART;TZID=America/Los_Angeles:20250712T100000
DTEND;TZID=America/Los_Angeles:20250712T150000
DTSTAMP:20260421T103909
CREATED:20250617T201122Z
LAST-MODIFIED:20250617T201307Z
UID:1721-1752314400-1752332400@happyhourgolfclub.com
SUMMARY:San Vicente Resort & Golf Club (Social Round)
DESCRIPTION:CLICK HERE TO REGISTER \nJoin us for a social round of golf at San Vicente Resort & Golf Club! \n*Note: This event is open to the public. You do not need to be an HHGC member to participate. \nHHGC Members: If you’d like to use this round towards your Growler Cup standings\, please let us know upon check in. \nWe’ll see you at San Vicente Resort & Golf Club! \nDate of event: 07/12/2025 \nTime of event: First Group Tees Off @ 10AM \nGolf Course Name & Address: San Vicente Resort and Golf Club\, 24157 San Vicente Rd\, Ramona\, CA\, 92065 \nEvent is open to the public \nFormat of Play: Stroke Play \nWill points for this event go towards the Growler Cup?: Optional \nDue date to enter in GHIN score or else be given a zero for your hcp: 7/5/2025 (This is only if round is being used for Growler Cup) \nDate when parings will be released: 7/10/2025 \nRegistration ends 7/4/2025 @ midnight \nPricing: $104 \nIncludes Green fee & cart \n*Cancellations must be made at least 48 hours before the event for a refund\, minus processing fees. No refunds will be issued for cancellations within 48 hours of the event. \nFor more information\, \nContact Noly: info@happyhourgolfclub.com
URL:https://happyhourgolfclub.com/event/social-round-san-vicente-resort-golf-club/
LOCATION:San Vicente Golf Resort\, 24157 San Vicente Rd\, San Diego Country Estates\,\, CA\, 92065\, United States
ATTACH;FMTTYPE=image/jpeg:https://happyhourgolfclub.com/wp-content/uploads/2025/06/Social-Round-San-Vicente-flyer-1.jpg
END:VEVENT
BEGIN:VEVENT
DTSTART;TZID=America/Los_Angeles:20250726T083000
DTEND;TZID=America/Los_Angeles:20250726T143000
DTSTAMP:20260421T103909
CREATED:20250324T212631Z
LAST-MODIFIED:20250628T233143Z
UID:1307-1753518600-1753540200@happyhourgolfclub.com
SUMMARY:The Tag Team Scramble
DESCRIPTION:CLICK HERE TO REGISTER!  \nTwo-Person Scramble | Members Only \nThe Tag Team Scramble is a two-person scramble tournament with a pro wrestling twist. Bring your golf buddy\, choose a team name\, and get ready to compete for custom Tag Team Championship Belts. Yup—belts. Like the ones the wrestlers wear. You’ve always wanted one\, admit it. \nHere’s the rundown: \nDate: July 26 \nLocation: The Links at Lakehouse \nStart Time: First group tees off at 8:30 AM \nFormat: Two-person scramble (must register as a team) \nSpots: 32 golfers / 16 teams total \nPrice: $99 per player ($198 per team) – includes green fee\, shared cart\, and range balls \nWe’ll also have prizes for: \n\nLong Drive\nClosest to the Pin\nOverall winners (ahem… belt-worthy performances only)\n\nThis is an HHGC members-only event with limited space\, so if you want in\, lock in your team now before the spots are gone.
URL:https://happyhourgolfclub.com/event/the-tag-team-scramble/
LOCATION:The Links at Lakehouse\, 1025 La Bonita Drive\, San Marcos\, CA\, 92078\, United States
ATTACH;FMTTYPE=image/jpeg:https://happyhourgolfclub.com/wp-content/uploads/2025/03/THE-TAG-TEAM-SCRAMBLE-FLYER-1.jpg
END:VEVENT
END:VCALENDAR