BEGIN:VCALENDAR
VERSION:2.0
PRODID:-//Happy Hour Golf Club - ECPv6.15.17//NONSGML v1.0//EN
CALSCALE:GREGORIAN
METHOD:PUBLISH
X-ORIGINAL-URL:https://happyhourgolfclub.com
X-WR-CALDESC:Events for Happy Hour Golf Club
REFRESH-INTERVAL;VALUE=DURATION:PT1H
X-Robots-Tag:noindex
X-PUBLISHED-TTL:PT1H
BEGIN:VTIMEZONE
TZID:America/Los_Angeles
BEGIN:DAYLIGHT
TZOFFSETFROM:-0800
TZOFFSETTO:-0700
TZNAME:PDT
DTSTART:20240310T100000
END:DAYLIGHT
BEGIN:STANDARD
TZOFFSETFROM:-0700
TZOFFSETTO:-0800
TZNAME:PST
DTSTART:20241103T090000
END:STANDARD
BEGIN:DAYLIGHT
TZOFFSETFROM:-0800
TZOFFSETTO:-0700
TZNAME:PDT
DTSTART:20250309T100000
END:DAYLIGHT
BEGIN:STANDARD
TZOFFSETFROM:-0700
TZOFFSETTO:-0800
TZNAME:PST
DTSTART:20251102T090000
END:STANDARD
BEGIN:DAYLIGHT
TZOFFSETFROM:-0800
TZOFFSETTO:-0700
TZNAME:PDT
DTSTART:20260308T100000
END:DAYLIGHT
BEGIN:STANDARD
TZOFFSETFROM:-0700
TZOFFSETTO:-0800
TZNAME:PST
DTSTART:20261101T090000
END:STANDARD
END:VTIMEZONE
BEGIN:VEVENT
DTSTART;TZID=America/Los_Angeles:20251101T083000
DTEND;TZID=America/Los_Angeles:20251101T143000
DTSTAMP:20260421T042755
CREATED:20250325T050830Z
LAST-MODIFIED:20251004T001205Z
UID:1327-1761985800-1762007400@happyhourgolfclub.com
SUMMARY:Definitely Not The Open
DESCRIPTION:CLICK HERE TO REGISTER \nJoin us for our 4th and final major of the year… \nDefinitely Not The U.S. Open at Singing Hills Golf Resort (Willow Glen)! \nNote: This is a members-only event. \nEvent Details:\n\nDate: Saturday\, November 1\, 2025\nTime: First group tees off at 8:30 AM\nLocation: Singing Hills Golf Resort — Willow Glen Course3007 Dehesa Rd\, El Cajon\, CA 92019\nFormat: Stroke Play\nGrowler Cup Points: Yes\nPairings Released: October 29\nRegistration Closes: October 24 at midnight\nGHIN Deadline: October 28 (scores must be posted by this date or you’ll play with no handicap)\n\nThis event will be played across three handicap tiers: White Claw\, IPA\, and Top Shelf — with winners in each tier. \nIf you don’t already have an established GHIN handicap\, please download the free GHIN app and enter at least your last three rounds to generate one. \nNote: Players without a GHIN by October 28 will play the tournament with no handicap applied. \nEntry Fee: $119\nIncludes Green Fee & Cart \nCancellations must be made at least 48 hours before the event to receive a refund (minus processing fees). No refunds will be issued within 48 hours of the event. \nFor questions or more info\, contact Noly atinfo@happyhourgolfclub.com
URL:https://happyhourgolfclub.com/event/definitely-not-the-open/
LOCATION:Singing Hills Golf Club (Willow Glen)\, 3007 Dehesa Rd\, El Cajon\, CA\, 92019\, United States
ATTACH;FMTTYPE=image/jpeg:https://happyhourgolfclub.com/wp-content/uploads/2025/03/Grey-and-Green-Simple-Sport-Flyer-1.jpg
END:VEVENT
END:VCALENDAR