BEGIN:VCALENDAR
VERSION:2.0
PRODID:-//Happy Hour Golf Club - ECPv6.15.17//NONSGML v1.0//EN
CALSCALE:GREGORIAN
METHOD:PUBLISH
X-ORIGINAL-URL:https://happyhourgolfclub.com
X-WR-CALDESC:Events for Happy Hour Golf Club
REFRESH-INTERVAL;VALUE=DURATION:PT1H
X-Robots-Tag:noindex
X-PUBLISHED-TTL:PT1H
BEGIN:VTIMEZONE
TZID:America/Los_Angeles
BEGIN:DAYLIGHT
TZOFFSETFROM:-0800
TZOFFSETTO:-0700
TZNAME:PDT
DTSTART:20240310T100000
END:DAYLIGHT
BEGIN:STANDARD
TZOFFSETFROM:-0700
TZOFFSETTO:-0800
TZNAME:PST
DTSTART:20241103T090000
END:STANDARD
BEGIN:DAYLIGHT
TZOFFSETFROM:-0800
TZOFFSETTO:-0700
TZNAME:PDT
DTSTART:20250309T100000
END:DAYLIGHT
BEGIN:STANDARD
TZOFFSETFROM:-0700
TZOFFSETTO:-0800
TZNAME:PST
DTSTART:20251102T090000
END:STANDARD
BEGIN:DAYLIGHT
TZOFFSETFROM:-0800
TZOFFSETTO:-0700
TZNAME:PDT
DTSTART:20260308T100000
END:DAYLIGHT
BEGIN:STANDARD
TZOFFSETFROM:-0700
TZOFFSETTO:-0800
TZNAME:PST
DTSTART:20261101T090000
END:STANDARD
END:VTIMEZONE
BEGIN:VEVENT
DTSTART;TZID=America/Los_Angeles:20251206T090000
DTEND;TZID=America/Los_Angeles:20251206T170000
DTSTAMP:20260421T025418
CREATED:20250325T052416Z
LAST-MODIFIED:20250325T165510Z
UID:1332-1765011600-1765040400@happyhourgolfclub.com
SUMMARY:HHGC Championship: The Growler Cup
DESCRIPTION:Here it is—the grand finale! The Growler Cup is coming to Steele Canyon Golf Club on December 6th\, 2025\, and it’s going to be a blast. This is your chance to take the spotlight and show off your skills in a fun\, laid-back competition with a little friendly rivalry thrown in. All the player will be ready for action because the Growler Cup is up for grabs. Expect plenty of good shots\, a few questionable ones\, and a whole lot of laughs along the way. Get your game face on\, and get ready to tee off at 9 AM. This is one you won’t want to miss!
URL:https://happyhourgolfclub.com/event/hhgc-championship-the-growler-cup/
LOCATION:Steele Canyon Golf Club\, 3199 Stonefield Dr\, Jamul\, CA\, 91935\, United States
END:VEVENT
END:VCALENDAR